BEGIN:VCALENDAR
VERSION:2.0
PRODID:-//NMAA - ECPv6.15.20//NONSGML v1.0//EN
CALSCALE:GREGORIAN
METHOD:PUBLISH
X-WR-CALNAME:NMAA
X-ORIGINAL-URL:https://www.nmact.org
X-WR-CALDESC:Events for NMAA
REFRESH-INTERVAL;VALUE=DURATION:PT1H
X-Robots-Tag:noindex
X-PUBLISHED-TTL:PT1H
BEGIN:VTIMEZONE
TZID:America/Denver
BEGIN:DAYLIGHT
TZOFFSETFROM:-0700
TZOFFSETTO:-0600
TZNAME:MDT
DTSTART:20260308T090000
END:DAYLIGHT
BEGIN:STANDARD
TZOFFSETFROM:-0600
TZOFFSETTO:-0700
TZNAME:MST
DTSTART:20261101T080000
END:STANDARD
BEGIN:DAYLIGHT
TZOFFSETFROM:-0700
TZOFFSETTO:-0600
TZNAME:MDT
DTSTART:20270314T090000
END:DAYLIGHT
BEGIN:STANDARD
TZOFFSETFROM:-0600
TZOFFSETTO:-0700
TZNAME:MST
DTSTART:20271107T080000
END:STANDARD
BEGIN:DAYLIGHT
TZOFFSETFROM:-0700
TZOFFSETTO:-0600
TZNAME:MDT
DTSTART:20280312T090000
END:DAYLIGHT
BEGIN:STANDARD
TZOFFSETFROM:-0600
TZOFFSETTO:-0700
TZNAME:MST
DTSTART:20281105T080000
END:STANDARD
END:VTIMEZONE
BEGIN:VEVENT
DTSTART;VALUE=DATE:20270101
DTEND;VALUE=DATE:20270102
DTSTAMP:20260425T191205
CREATED:20260204T145936Z
LAST-MODIFIED:20260204T145936Z
UID:31206-1798761600-1798847999@www.nmact.org
SUMMARY:Powerlifting Rules Clinic (1-15)
DESCRIPTION:
URL:https://www.nmact.org/event/powerlifting-rules-clinic-1-15-4/
END:VEVENT
BEGIN:VEVENT
DTSTART;VALUE=DATE:20270104
DTEND;VALUE=DATE:20270105
DTSTAMP:20260425T191205
CREATED:20260204T145937Z
LAST-MODIFIED:20260204T145937Z
UID:31207-1799020800-1799107199@www.nmact.org
SUMMARY:Winter Officials Appreciation Week (4-9)
DESCRIPTION:
URL:https://www.nmact.org/event/winter-officials-appreciation-week-4-9/
END:VEVENT
BEGIN:VEVENT
DTSTART;VALUE=DATE:20270104
DTEND;VALUE=DATE:20270105
DTSTAMP:20260425T191205
CREATED:20260204T145938Z
LAST-MODIFIED:20260204T145938Z
UID:31208-1799020800-1799107199@www.nmact.org
SUMMARY:Powerlifting Start Date
DESCRIPTION:
URL:https://www.nmact.org/event/powerlifting-start-date-4/
END:VEVENT
BEGIN:VEVENT
DTSTART;VALUE=DATE:20270106
DTEND;VALUE=DATE:20270107
DTSTAMP:20260425T191205
CREATED:20260204T145939Z
LAST-MODIFIED:20260204T145939Z
UID:31209-1799193600-1799279999@www.nmact.org
SUMMARY:NMMEA All-State Music Conference (6-9)
DESCRIPTION:
URL:https://www.nmact.org/event/nmmea-all-state-music-conference-6-9-2/
END:VEVENT
BEGIN:VEVENT
DTSTART;VALUE=DATE:20270111
DTEND;VALUE=DATE:20270112
DTSTAMP:20260425T191205
CREATED:20260204T145941Z
LAST-MODIFIED:20260204T145941Z
UID:31210-1799625600-1799711999@www.nmact.org
SUMMARY:Esports Start Date
DESCRIPTION:
URL:https://www.nmact.org/event/esports-start-date-7/
END:VEVENT
BEGIN:VEVENT
DTSTART;VALUE=DATE:20270112
DTEND;VALUE=DATE:20270113
DTSTAMP:20260425T191205
CREATED:20260204T145946Z
LAST-MODIFIED:20260204T145946Z
UID:31211-1799712000-1799798399@www.nmact.org
SUMMARY:Hardship Review
DESCRIPTION:
URL:https://www.nmact.org/event/hardship-review-81/
END:VEVENT
BEGIN:VEVENT
DTSTART;VALUE=DATE:20270118
DTEND;VALUE=DATE:20270119
DTSTAMP:20260425T191205
CREATED:20260204T145947Z
LAST-MODIFIED:20260204T145947Z
UID:31212-1800230400-1800316799@www.nmact.org
SUMMARY:NMAA Office Closed
DESCRIPTION:
URL:https://www.nmact.org/event/nmaa-office-closed-59/
END:VEVENT
BEGIN:VEVENT
DTSTART;VALUE=DATE:20270120
DTEND;VALUE=DATE:20270121
DTSTAMP:20260425T191205
CREATED:20260204T145949Z
LAST-MODIFIED:20260204T145949Z
UID:31213-1800403200-1800489599@www.nmact.org
SUMMARY:Monthly Athletic Directors Meeting (Zoom)
DESCRIPTION:
URL:https://www.nmact.org/event/monthly-athletic-directors-meeting-zoom-26/
END:VEVENT
BEGIN:VEVENT
DTSTART;VALUE=DATE:20270121
DTEND;VALUE=DATE:20270122
DTSTAMP:20260425T191205
CREATED:20260204T145950Z
LAST-MODIFIED:20260204T145950Z
UID:31214-1800489600-1800575999@www.nmact.org
SUMMARY:Esports Rules Clinic
DESCRIPTION:
URL:https://www.nmact.org/event/esports-rules-clinic-2/
END:VEVENT
BEGIN:VEVENT
DTSTART;VALUE=DATE:20270121
DTEND;VALUE=DATE:20270122
DTSTAMP:20260425T191205
CREATED:20260204T145951Z
LAST-MODIFIED:20260204T145951Z
UID:31215-1800489600-1800575999@www.nmact.org
SUMMARY:NMMEA Jazz All-State (21-23)
DESCRIPTION:
URL:https://www.nmact.org/event/nmmea-jazz-all-state-21-23/
END:VEVENT
END:VCALENDAR