BEGIN:VCALENDAR
VERSION:2.0
PRODID:-//NMAA - ECPv6.15.20//NONSGML v1.0//EN
CALSCALE:GREGORIAN
METHOD:PUBLISH
X-WR-CALNAME:NMAA
X-ORIGINAL-URL:https://www.nmact.org
X-WR-CALDESC:Events for NMAA
REFRESH-INTERVAL;VALUE=DURATION:PT1H
X-Robots-Tag:noindex
X-PUBLISHED-TTL:PT1H
BEGIN:VTIMEZONE
TZID:America/Denver
BEGIN:DAYLIGHT
TZOFFSETFROM:-0700
TZOFFSETTO:-0600
TZNAME:MDT
DTSTART:20250309T090000
END:DAYLIGHT
BEGIN:STANDARD
TZOFFSETFROM:-0600
TZOFFSETTO:-0700
TZNAME:MST
DTSTART:20251102T080000
END:STANDARD
BEGIN:DAYLIGHT
TZOFFSETFROM:-0700
TZOFFSETTO:-0600
TZNAME:MDT
DTSTART:20260308T090000
END:DAYLIGHT
BEGIN:STANDARD
TZOFFSETFROM:-0600
TZOFFSETTO:-0700
TZNAME:MST
DTSTART:20261101T080000
END:STANDARD
BEGIN:DAYLIGHT
TZOFFSETFROM:-0700
TZOFFSETTO:-0600
TZNAME:MDT
DTSTART:20270314T090000
END:DAYLIGHT
BEGIN:STANDARD
TZOFFSETFROM:-0600
TZOFFSETTO:-0700
TZNAME:MST
DTSTART:20271107T080000
END:STANDARD
END:VTIMEZONE
BEGIN:VEVENT
DTSTART;VALUE=DATE:20261101
DTEND;VALUE=DATE:20261102
DTSTAMP:20260425T160700
CREATED:20260204T145626Z
LAST-MODIFIED:20260204T145626Z
UID:31170-1793491200-1793577599@www.nmact.org
SUMMARY:Winer Sports Rules Clinics (1-15)
DESCRIPTION:
URL:https://www.nmact.org/event/winer-sports-rules-clinics-1-15-3/
END:VEVENT
BEGIN:VEVENT
DTSTART;VALUE=DATE:20261101
DTEND;VALUE=DATE:20261102
DTSTAMP:20260425T160700
CREATED:20260204T145630Z
LAST-MODIFIED:20260204T145630Z
UID:31173-1793491200-1793577599@www.nmact.org
SUMMARY:Cross Country Entries Due
DESCRIPTION:
URL:https://www.nmact.org/event/cross-country-entries-due-10/
END:VEVENT
BEGIN:VEVENT
DTSTART;VALUE=DATE:20261102
DTEND;VALUE=DATE:20261103
DTSTAMP:20260425T160700
CREATED:20260204T145641Z
LAST-MODIFIED:20260204T145641Z
UID:31175-1793577600-1793663999@www.nmact.org
SUMMARY:Mid School/Jr. High Basketball Practice Begins
DESCRIPTION:
URL:https://www.nmact.org/event/mid-school-jr-high-basketball-practice-begins-3/
END:VEVENT
BEGIN:VEVENT
DTSTART;VALUE=DATE:20261102
DTEND;VALUE=DATE:20261103
DTSTAMP:20260425T160700
CREATED:20260204T145642Z
LAST-MODIFIED:20260204T145642Z
UID:31176-1793577600-1793663999@www.nmact.org
SUMMARY:Wrestling Practice Start Date
DESCRIPTION:
URL:https://www.nmact.org/event/wrestling-practice-start-date-3/
END:VEVENT
BEGIN:VEVENT
DTSTART;VALUE=DATE:20261102
DTEND;VALUE=DATE:20261103
DTSTAMP:20260425T160700
CREATED:20260204T145643Z
LAST-MODIFIED:20260204T145643Z
UID:31177-1793577600-1793663999@www.nmact.org
SUMMARY:Swimming & Diving and Spirit Competitions Begin
DESCRIPTION:
URL:https://www.nmact.org/event/swimming-diving-and-spirit-competitions-begin-3/
END:VEVENT
BEGIN:VEVENT
DTSTART;VALUE=DATE:20261103
DTEND;VALUE=DATE:20261104
DTSTAMP:20260425T160700
CREATED:20260204T145644Z
LAST-MODIFIED:20260204T145644Z
UID:31178-1793664000-1793750399@www.nmact.org
SUMMARY:State Soccer Semifinals (3-4)
DESCRIPTION:
URL:https://www.nmact.org/event/state-soccer-semifinals-3-4/
END:VEVENT
BEGIN:VEVENT
DTSTART;VALUE=DATE:20261106
DTEND;VALUE=DATE:20261107
DTSTAMP:20260425T160700
CREATED:20260204T145655Z
LAST-MODIFIED:20260204T145655Z
UID:31179-1793923200-1794009599@www.nmact.org
SUMMARY:2A-6A Football 1st Round (6-7)
DESCRIPTION:
URL:https://www.nmact.org/event/2a-6a-football-1st-round-6-7/
END:VEVENT
BEGIN:VEVENT
DTSTART;VALUE=DATE:20261106
DTEND;VALUE=DATE:20261107
DTSTAMP:20260425T160700
CREATED:20260204T145656Z
LAST-MODIFIED:20260204T145656Z
UID:31180-1793923200-1794009599@www.nmact.org
SUMMARY:8-Man Football Quarterfinals (6-7)
DESCRIPTION:
URL:https://www.nmact.org/event/8-man-football-quarterfinals-6-7/
END:VEVENT
BEGIN:VEVENT
DTSTART;VALUE=DATE:20261106
DTEND;VALUE=DATE:20261107
DTSTAMP:20260425T160700
CREATED:20260204T145657Z
LAST-MODIFIED:20260204T145657Z
UID:31181-1793923200-1794009599@www.nmact.org
SUMMARY:6-Man Football Semifinals (6-7)
DESCRIPTION:
URL:https://www.nmact.org/event/6-man-football-semifinals-6-7/
END:VEVENT
BEGIN:VEVENT
DTSTART;VALUE=DATE:20261107
DTEND;VALUE=DATE:20261108
DTSTAMP:20260425T160700
CREATED:20260204T145658Z
LAST-MODIFIED:20260204T145658Z
UID:31182-1794009600-1794095999@www.nmact.org
SUMMARY:State Cross Country Championships
DESCRIPTION:
URL:https://www.nmact.org/event/state-cross-country-championships-9/
END:VEVENT
BEGIN:VEVENT
DTSTART;VALUE=DATE:20261108
DTEND;VALUE=DATE:20261109
DTSTAMP:20260425T160700
CREATED:20260204T145700Z
LAST-MODIFIED:20260204T145700Z
UID:31183-1794096000-1794182399@www.nmact.org
SUMMARY:Volleyball Brackets Released
DESCRIPTION:
URL:https://www.nmact.org/event/volleyball-brackets-released-12/
END:VEVENT
BEGIN:VEVENT
DTSTART;VALUE=DATE:20261110
DTEND;VALUE=DATE:20261111
DTSTAMP:20260425T160700
CREATED:20260204T145710Z
LAST-MODIFIED:20260204T145710Z
UID:31184-1794268800-1794355199@www.nmact.org
SUMMARY:Hardship Review
DESCRIPTION:
URL:https://www.nmact.org/event/hardship-review-79/
END:VEVENT
BEGIN:VEVENT
DTSTART;VALUE=DATE:20261111
DTEND;VALUE=DATE:20261112
DTSTAMP:20260425T160700
CREATED:20260204T145727Z
LAST-MODIFIED:20260204T145727Z
UID:31191-1794355200-1794441599@www.nmact.org
SUMMARY:Monthly Athletic Directors Meeting (Zoom)
DESCRIPTION:
URL:https://www.nmact.org/event/monthly-athletic-directors-meeting-zoom-24/
END:VEVENT
BEGIN:VEVENT
DTSTART;VALUE=DATE:20261112
DTEND;VALUE=DATE:20261113
DTSTAMP:20260425T160700
CREATED:20260204T145711Z
LAST-MODIFIED:20260204T145711Z
UID:31185-1794441600-1794527999@www.nmact.org
SUMMARY:State Volleyball Championships (12-14)
DESCRIPTION:
URL:https://www.nmact.org/event/state-volleyball-championships-12-14-2/
END:VEVENT
BEGIN:VEVENT
DTSTART;VALUE=DATE:20261113
DTEND;VALUE=DATE:20261114
DTSTAMP:20260425T160700
CREATED:20260204T145713Z
LAST-MODIFIED:20260204T145713Z
UID:31186-1794528000-1794614399@www.nmact.org
SUMMARY:2A-6A Football Quarterfinals (13-14)
DESCRIPTION:
URL:https://www.nmact.org/event/2a-6a-football-quarterfinals-13-14/
END:VEVENT
BEGIN:VEVENT
DTSTART;VALUE=DATE:20261113
DTEND;VALUE=DATE:20261114
DTSTAMP:20260425T160700
CREATED:20260204T145714Z
LAST-MODIFIED:20260204T145714Z
UID:31187-1794528000-1794614399@www.nmact.org
SUMMARY:8-Man Football Semifinals (13-14)
DESCRIPTION:
URL:https://www.nmact.org/event/8-man-football-semifinals-13-14/
END:VEVENT
BEGIN:VEVENT
DTSTART;VALUE=DATE:20261114
DTEND;VALUE=DATE:20261115
DTSTAMP:20260425T160700
CREATED:20260204T145716Z
LAST-MODIFIED:20260204T145716Z
UID:31188-1794614400-1794700799@www.nmact.org
SUMMARY:6-Man Football Championships
DESCRIPTION:
URL:https://www.nmact.org/event/6-man-football-championships-5/
END:VEVENT
BEGIN:VEVENT
DTSTART;VALUE=DATE:20261114
DTEND;VALUE=DATE:20261115
DTSTAMP:20260425T160700
CREATED:20260204T145725Z
LAST-MODIFIED:20260204T145725Z
UID:31189-1794614400-1794700799@www.nmact.org
SUMMARY:Golf Fall Season Ends
DESCRIPTION:
URL:https://www.nmact.org/event/golf-fall-season-ends-6/
END:VEVENT
BEGIN:VEVENT
DTSTART;VALUE=DATE:20261116
DTEND;VALUE=DATE:20261117
DTSTAMP:20260425T160700
CREATED:20260204T145726Z
LAST-MODIFIED:20260204T145726Z
UID:31190-1794787200-1794873599@www.nmact.org
SUMMARY:Basketball Practice Begins
DESCRIPTION:
URL:https://www.nmact.org/event/basketball-practice-begins-6/
END:VEVENT
BEGIN:VEVENT
DTSTART;VALUE=DATE:20261118
DTEND;VALUE=DATE:20261119
DTSTAMP:20260425T160700
CREATED:20260204T145728Z
LAST-MODIFIED:20260204T145728Z
UID:31192-1794960000-1795046399@www.nmact.org
SUMMARY:Commission
DESCRIPTION:
URL:https://www.nmact.org/event/commission-9/
END:VEVENT
BEGIN:VEVENT
DTSTART;VALUE=DATE:20261120
DTEND;VALUE=DATE:20261121
DTSTAMP:20260425T160700
CREATED:20260204T145730Z
LAST-MODIFIED:20260204T145730Z
UID:31193-1795132800-1795219199@www.nmact.org
SUMMARY:2A-6A Football Semifinals (20-21)
DESCRIPTION:
URL:https://www.nmact.org/event/2a-6a-football-semifinals-20-21/
END:VEVENT
BEGIN:VEVENT
DTSTART;VALUE=DATE:20261121
DTEND;VALUE=DATE:20261122
DTSTAMP:20260425T160700
CREATED:20260204T145740Z
LAST-MODIFIED:20260204T145740Z
UID:31194-1795219200-1795305599@www.nmact.org
SUMMARY:8-Man Football Championships
DESCRIPTION:
URL:https://www.nmact.org/event/8-man-football-championships-5/
END:VEVENT
BEGIN:VEVENT
DTSTART;VALUE=DATE:20261128
DTEND;VALUE=DATE:20261129
DTSTAMP:20260425T160700
CREATED:20260204T145741Z
LAST-MODIFIED:20260204T145741Z
UID:31195-1795824000-1795910399@www.nmact.org
SUMMARY:2A-6A Football Championships
DESCRIPTION:
URL:https://www.nmact.org/event/2a-6a-football-championships-4/
END:VEVENT
BEGIN:VEVENT
DTSTART;VALUE=DATE:20261130
DTEND;VALUE=DATE:20261201
DTSTAMP:20260425T160700
CREATED:20260204T145743Z
LAST-MODIFIED:20260204T145743Z
UID:31197-1795996800-1796083199@www.nmact.org
SUMMARY:Spring Officials Registration Due
DESCRIPTION:
URL:https://www.nmact.org/event/spring-officials-registration-due-3/
END:VEVENT
END:VCALENDAR