BEGIN:VCALENDAR
VERSION:2.0
PRODID:-//NMAA - ECPv6.15.20//NONSGML v1.0//EN
CALSCALE:GREGORIAN
METHOD:PUBLISH
X-ORIGINAL-URL:https://www.nmact.org
X-WR-CALDESC:Events for NMAA
REFRESH-INTERVAL;VALUE=DURATION:PT1H
X-Robots-Tag:noindex
X-PUBLISHED-TTL:PT1H
BEGIN:VTIMEZONE
TZID:America/Denver
BEGIN:DAYLIGHT
TZOFFSETFROM:-0700
TZOFFSETTO:-0600
TZNAME:MDT
DTSTART:20250309T090000
END:DAYLIGHT
BEGIN:STANDARD
TZOFFSETFROM:-0600
TZOFFSETTO:-0700
TZNAME:MST
DTSTART:20251102T080000
END:STANDARD
BEGIN:DAYLIGHT
TZOFFSETFROM:-0700
TZOFFSETTO:-0600
TZNAME:MDT
DTSTART:20260308T090000
END:DAYLIGHT
BEGIN:STANDARD
TZOFFSETFROM:-0600
TZOFFSETTO:-0700
TZNAME:MST
DTSTART:20261101T080000
END:STANDARD
BEGIN:DAYLIGHT
TZOFFSETFROM:-0700
TZOFFSETTO:-0600
TZNAME:MDT
DTSTART:20270314T090000
END:DAYLIGHT
BEGIN:STANDARD
TZOFFSETFROM:-0600
TZOFFSETTO:-0700
TZNAME:MST
DTSTART:20271107T080000
END:STANDARD
END:VTIMEZONE
BEGIN:VEVENT
DTSTART;VALUE=DATE:20260902
DTEND;VALUE=DATE:20260903
DTSTAMP:20260425T130751
CREATED:20260204T145515Z
LAST-MODIFIED:20260204T145515Z
UID:31147-1788307200-1788393599@www.nmact.org
SUMMARY:Commission
DESCRIPTION:
URL:https://www.nmact.org/event/commission-8/
END:VEVENT
BEGIN:VEVENT
DTSTART;VALUE=DATE:20260907
DTEND;VALUE=DATE:20260908
DTSTAMP:20260425T130751
CREATED:20260204T145531Z
LAST-MODIFIED:20260204T145531Z
UID:31153-1788739200-1788825599@www.nmact.org
SUMMARY:NMAA Office Closed
DESCRIPTION:
URL:https://www.nmact.org/event/nmaa-office-closed-56/
END:VEVENT
BEGIN:VEVENT
DTSTART;VALUE=DATE:20260908
DTEND;VALUE=DATE:20260909
DTSTAMP:20260425T130751
CREATED:20260204T145517Z
LAST-MODIFIED:20260204T145517Z
UID:31148-1788825600-1788911999@www.nmact.org
SUMMARY:NFHS Section VI (8-11)
DESCRIPTION:
URL:https://www.nmact.org/event/nfhs-section-vi-8-11/
END:VEVENT
BEGIN:VEVENT
DTSTART;VALUE=DATE:20260915
DTEND;VALUE=DATE:20260916
DTSTAMP:20260425T130751
CREATED:20260204T145525Z
LAST-MODIFIED:20260204T145525Z
UID:31149-1789430400-1789516799@www.nmact.org
SUMMARY:Membership Contracts & Dues Due
DESCRIPTION:
URL:https://www.nmact.org/event/membership-contracts-dues-due/
END:VEVENT
BEGIN:VEVENT
DTSTART;VALUE=DATE:20260915
DTEND;VALUE=DATE:20260916
DTSTAMP:20260425T130751
CREATED:20260204T145527Z
LAST-MODIFIED:20260204T145527Z
UID:31150-1789430400-1789516799@www.nmact.org
SUMMARY:Hardship Review
DESCRIPTION:
URL:https://www.nmact.org/event/hardship-review-77/
END:VEVENT
BEGIN:VEVENT
DTSTART;VALUE=DATE:20260916
DTEND;VALUE=DATE:20260917
DTSTAMP:20260425T130751
CREATED:20260204T145528Z
LAST-MODIFIED:20260204T145528Z
UID:31151-1789516800-1789603199@www.nmact.org
SUMMARY:Board of Directors
DESCRIPTION:
URL:https://www.nmact.org/event/board-of-directors-10/
END:VEVENT
BEGIN:VEVENT
DTSTART;VALUE=DATE:20260923
DTEND;VALUE=DATE:20260924
DTSTAMP:20260425T130751
CREATED:20260204T145530Z
LAST-MODIFIED:20260204T145530Z
UID:31152-1790121600-1790207999@www.nmact.org
SUMMARY:Monthly Athletic Directors Meeting (Zoom)
DESCRIPTION:
URL:https://www.nmact.org/event/monthly-athletic-directors-meeting-zoom-22/
END:VEVENT
END:VCALENDAR