BEGIN:VCALENDAR
VERSION:2.0
PRODID:-//NMAA - ECPv6.15.20//NONSGML v1.0//EN
CALSCALE:GREGORIAN
METHOD:PUBLISH
X-WR-CALNAME:NMAA
X-ORIGINAL-URL:https://www.nmact.org
X-WR-CALDESC:Events for NMAA
REFRESH-INTERVAL;VALUE=DURATION:PT1H
X-Robots-Tag:noindex
X-PUBLISHED-TTL:PT1H
BEGIN:VTIMEZONE
TZID:America/Denver
BEGIN:DAYLIGHT
TZOFFSETFROM:-0700
TZOFFSETTO:-0600
TZNAME:MDT
DTSTART:20250309T090000
END:DAYLIGHT
BEGIN:STANDARD
TZOFFSETFROM:-0600
TZOFFSETTO:-0700
TZNAME:MST
DTSTART:20251102T080000
END:STANDARD
BEGIN:DAYLIGHT
TZOFFSETFROM:-0700
TZOFFSETTO:-0600
TZNAME:MDT
DTSTART:20260308T090000
END:DAYLIGHT
BEGIN:STANDARD
TZOFFSETFROM:-0600
TZOFFSETTO:-0700
TZNAME:MST
DTSTART:20261101T080000
END:STANDARD
BEGIN:DAYLIGHT
TZOFFSETFROM:-0700
TZOFFSETTO:-0600
TZNAME:MDT
DTSTART:20270314T090000
END:DAYLIGHT
BEGIN:STANDARD
TZOFFSETFROM:-0600
TZOFFSETTO:-0700
TZNAME:MST
DTSTART:20271107T080000
END:STANDARD
END:VTIMEZONE
BEGIN:VEVENT
DTSTART;VALUE=DATE:20260706
DTEND;VALUE=DATE:20260707
DTSTAMP:20260425T101556
CREATED:20260204T145429Z
LAST-MODIFIED:20260204T145429Z
UID:31129-1783296000-1783382399@www.nmact.org
SUMMARY:NMAA Office Closed
DESCRIPTION:
URL:https://www.nmact.org/event/nmaa-office-closed-55/
END:VEVENT
BEGIN:VEVENT
DTSTART;VALUE=DATE:20260723
DTEND;VALUE=DATE:20260724
DTSTAMP:20260425T101556
CREATED:20260204T145433Z
LAST-MODIFIED:20260204T145433Z
UID:31131-1784764800-1784851199@www.nmact.org
SUMMARY:NMAA/NMOA/NMHSCA Summer Clinic (23-25)
DESCRIPTION:
URL:https://www.nmact.org/event/nmaa-nmoa-nmhsca-summer-clinic-23-25/
END:VEVENT
BEGIN:VEVENT
DTSTART;VALUE=DATE:20260724
DTEND;VALUE=DATE:20260725
DTSTAMP:20260425T101556
CREATED:20260204T145431Z
LAST-MODIFIED:20260204T145431Z
UID:31130-1784851200-1784937599@www.nmact.org
SUMMARY:NMOA Excecutive Board Meeting
DESCRIPTION:
URL:https://www.nmact.org/event/nmoa-excecutive-board-meeting-3/
END:VEVENT
END:VCALENDAR