BEGIN:VCALENDAR
VERSION:2.0
PRODID:-//NMAA - ECPv6.15.20//NONSGML v1.0//EN
CALSCALE:GREGORIAN
METHOD:PUBLISH
X-WR-CALNAME:NMAA
X-ORIGINAL-URL:https://www.nmact.org
X-WR-CALDESC:Events for NMAA
REFRESH-INTERVAL;VALUE=DURATION:PT1H
X-Robots-Tag:noindex
X-PUBLISHED-TTL:PT1H
BEGIN:VTIMEZONE
TZID:America/Denver
BEGIN:DAYLIGHT
TZOFFSETFROM:-0700
TZOFFSETTO:-0600
TZNAME:MDT
DTSTART:20250309T090000
END:DAYLIGHT
BEGIN:STANDARD
TZOFFSETFROM:-0600
TZOFFSETTO:-0700
TZNAME:MST
DTSTART:20251102T080000
END:STANDARD
BEGIN:DAYLIGHT
TZOFFSETFROM:-0700
TZOFFSETTO:-0600
TZNAME:MDT
DTSTART:20260308T090000
END:DAYLIGHT
BEGIN:STANDARD
TZOFFSETFROM:-0600
TZOFFSETTO:-0700
TZNAME:MST
DTSTART:20261101T080000
END:STANDARD
BEGIN:DAYLIGHT
TZOFFSETFROM:-0700
TZOFFSETTO:-0600
TZNAME:MDT
DTSTART:20270314T090000
END:DAYLIGHT
BEGIN:STANDARD
TZOFFSETFROM:-0600
TZOFFSETTO:-0700
TZNAME:MST
DTSTART:20271107T080000
END:STANDARD
END:VTIMEZONE
BEGIN:VEVENT
DTSTART;VALUE=DATE:20260503
DTEND;VALUE=DATE:20260504
DTSTAMP:20260425T072148
CREATED:20250307T203049Z
LAST-MODIFIED:20250307T203049Z
UID:28944-1777766400-1777852799@www.nmact.org
SUMMARY:Baseball\, Softball  & Tennis Brackets Released
DESCRIPTION:
URL:https://www.nmact.org/event/baseball-softball-tennis-brackets-released/
END:VEVENT
BEGIN:VEVENT
DTSTART;VALUE=DATE:20260503
DTEND;VALUE=DATE:20260504
DTSTAMP:20260425T072148
CREATED:20250307T203050Z
LAST-MODIFIED:20250307T203050Z
UID:28945-1777766400-1777852799@www.nmact.org
SUMMARY:Track & Field Entries Deadline (A-3A)
DESCRIPTION:
URL:https://www.nmact.org/event/track-field-entries-deadline-a-3a-7/
END:VEVENT
BEGIN:VEVENT
DTSTART;VALUE=DATE:20260506
DTEND;VALUE=DATE:20260507
DTSTAMP:20260425T072148
CREATED:20250307T203050Z
LAST-MODIFIED:20250307T203050Z
UID:28946-1778025600-1778111999@www.nmact.org
SUMMARY:State Golf Entries Due
DESCRIPTION:
URL:https://www.nmact.org/event/state-golf-entries-due-2/
END:VEVENT
BEGIN:VEVENT
DTSTART;VALUE=DATE:20260506
DTEND;VALUE=DATE:20260507
DTSTAMP:20260425T072148
CREATED:20250307T203103Z
LAST-MODIFIED:20250307T203103Z
UID:28947-1778025600-1778111999@www.nmact.org
SUMMARY:State Tennis Championships (6-9)
DESCRIPTION:
URL:https://www.nmact.org/event/state-tennis-championships-6-9-2/
END:VEVENT
BEGIN:VEVENT
DTSTART;VALUE=DATE:20260506
DTEND;VALUE=DATE:20260507
DTSTAMP:20260425T072148
CREATED:20250307T203103Z
LAST-MODIFIED:20250307T203103Z
UID:28948-1778025600-1778111999@www.nmact.org
SUMMARY:State Baseball 2A 1st Round & 1A Quarters
DESCRIPTION:
URL:https://www.nmact.org/event/state-baseball-2a-1st-round-1a-quarters-2/
END:VEVENT
BEGIN:VEVENT
DTSTART;VALUE=DATE:20260508
DTEND;VALUE=DATE:20260509
DTSTAMP:20260425T072148
CREATED:20250307T203104Z
LAST-MODIFIED:20250307T203104Z
UID:28949-1778198400-1778284799@www.nmact.org
SUMMARY:State Baseball 3A-5A 1st Round (8-9)
DESCRIPTION:
URL:https://www.nmact.org/event/state-baseball-3a-5a-1st-round-8-9-2/
END:VEVENT
BEGIN:VEVENT
DTSTART;VALUE=DATE:20260508
DTEND;VALUE=DATE:20260509
DTSTAMP:20260425T072148
CREATED:20250307T203104Z
LAST-MODIFIED:20250307T203104Z
UID:28950-1778198400-1778284799@www.nmact.org
SUMMARY:State Softball 4A-5A 1st Round (8-9)
DESCRIPTION:
URL:https://www.nmact.org/event/state-softball-4a-5a-1st-round-8-9-2/
END:VEVENT
BEGIN:VEVENT
DTSTART;VALUE=DATE:20260508
DTEND;VALUE=DATE:20260509
DTSTAMP:20260425T072148
CREATED:20250307T203105Z
LAST-MODIFIED:20250307T203105Z
UID:28951-1778198400-1778284799@www.nmact.org
SUMMARY:State Track & Field Championships A-3A (8-9)
DESCRIPTION:
URL:https://www.nmact.org/event/state-track-field-championships-a-3a-8-9-2/
END:VEVENT
BEGIN:VEVENT
DTSTART;VALUE=DATE:20260510
DTEND;VALUE=DATE:20260511
DTSTAMP:20260425T072148
CREATED:20250307T203118Z
LAST-MODIFIED:20250307T203118Z
UID:28952-1778371200-1778457599@www.nmact.org
SUMMARY:Track & Field Entries Deadline (4A-5A)
DESCRIPTION:
URL:https://www.nmact.org/event/track-field-entries-deadline-4a-5a-7/
END:VEVENT
BEGIN:VEVENT
DTSTART;VALUE=DATE:20260511
DTEND;VALUE=DATE:20260512
DTSTAMP:20260425T072148
CREATED:20250307T203118Z
LAST-MODIFIED:20250307T203118Z
UID:28953-1778457600-1778543999@www.nmact.org
SUMMARY:State Golf Championships (11-12)
DESCRIPTION:
URL:https://www.nmact.org/event/state-golf-championships-11-12-2/
END:VEVENT
BEGIN:VEVENT
DTSTART;VALUE=DATE:20260513
DTEND;VALUE=DATE:20260514
DTSTAMP:20260425T072148
CREATED:20250307T203119Z
LAST-MODIFIED:20250307T203119Z
UID:28954-1778630400-1778716799@www.nmact.org
SUMMARY:State Softball Championships (13-16)
DESCRIPTION:
URL:https://www.nmact.org/event/state-softball-championships-13-16/
END:VEVENT
BEGIN:VEVENT
DTSTART;VALUE=DATE:20260514
DTEND;VALUE=DATE:20260515
DTSTAMP:20260425T072148
CREATED:20250307T203120Z
LAST-MODIFIED:20250307T203120Z
UID:28955-1778716800-1778803199@www.nmact.org
SUMMARY:State Baseball Championships (14-16)
DESCRIPTION:
URL:https://www.nmact.org/event/state-baseball-championships-14-16/
END:VEVENT
BEGIN:VEVENT
DTSTART;VALUE=DATE:20260515
DTEND;VALUE=DATE:20260516
DTSTAMP:20260425T072148
CREATED:20250307T203120Z
LAST-MODIFIED:20250307T203120Z
UID:28956-1778803200-1778889599@www.nmact.org
SUMMARY:State Track & Field Championships 4A-5A (15-16)
DESCRIPTION:
URL:https://www.nmact.org/event/state-track-field-championships-4a-5a-15-16-2/
END:VEVENT
BEGIN:VEVENT
DTSTART;VALUE=DATE:20260520
DTEND;VALUE=DATE:20260521
DTSTAMP:20260425T072148
CREATED:20250307T203134Z
LAST-MODIFIED:20250307T203134Z
UID:28958-1779235200-1779321599@www.nmact.org
SUMMARY:Commission
DESCRIPTION:
URL:https://www.nmact.org/event/commission-7/
END:VEVENT
BEGIN:VEVENT
DTSTART;VALUE=DATE:20260521
DTEND;VALUE=DATE:20260522
DTSTAMP:20260425T072148
CREATED:20250307T203133Z
LAST-MODIFIED:20250307T203133Z
UID:28957-1779321600-1779407999@www.nmact.org
SUMMARY:Monthly Athletic Directors Meeting (Zoom)
DESCRIPTION:
URL:https://www.nmact.org/event/monthly-athletic-directors-meeting-zoom-20/
END:VEVENT
BEGIN:VEVENT
DTSTART;VALUE=DATE:20260525
DTEND;VALUE=DATE:20260526
DTSTAMP:20260425T072148
CREATED:20250307T203048Z
LAST-MODIFIED:20250307T203048Z
UID:28943-1779667200-1779753599@www.nmact.org
SUMMARY:NMAA Office Closed
DESCRIPTION:
URL:https://www.nmact.org/event/nmaa-office-closed-52/
END:VEVENT
BEGIN:VEVENT
DTSTART;VALUE=DATE:20260526
DTEND;VALUE=DATE:20260527
DTSTAMP:20260425T072148
CREATED:20250806T153703Z
LAST-MODIFIED:20250806T153703Z
UID:29903-1779753600-1779839999@www.nmact.org
SUMMARY:FFA Agriculture Education (26-29)
DESCRIPTION:
URL:https://www.nmact.org/event/ffa-agriculture-education-26-29/
END:VEVENT
END:VCALENDAR