BEGIN:VCALENDAR
VERSION:2.0
PRODID:-//NMAA - ECPv6.15.20//NONSGML v1.0//EN
CALSCALE:GREGORIAN
METHOD:PUBLISH
X-WR-CALNAME:NMAA
X-ORIGINAL-URL:https://www.nmact.org
X-WR-CALDESC:Events for NMAA
REFRESH-INTERVAL;VALUE=DURATION:PT1H
X-Robots-Tag:noindex
X-PUBLISHED-TTL:PT1H
BEGIN:VTIMEZONE
TZID:America/Denver
BEGIN:DAYLIGHT
TZOFFSETFROM:-0700
TZOFFSETTO:-0600
TZNAME:MDT
DTSTART:20250309T090000
END:DAYLIGHT
BEGIN:STANDARD
TZOFFSETFROM:-0600
TZOFFSETTO:-0700
TZNAME:MST
DTSTART:20251102T080000
END:STANDARD
BEGIN:DAYLIGHT
TZOFFSETFROM:-0700
TZOFFSETTO:-0600
TZNAME:MDT
DTSTART:20260308T090000
END:DAYLIGHT
BEGIN:STANDARD
TZOFFSETFROM:-0600
TZOFFSETTO:-0700
TZNAME:MST
DTSTART:20261101T080000
END:STANDARD
BEGIN:DAYLIGHT
TZOFFSETFROM:-0700
TZOFFSETTO:-0600
TZNAME:MDT
DTSTART:20270314T090000
END:DAYLIGHT
BEGIN:STANDARD
TZOFFSETFROM:-0600
TZOFFSETTO:-0700
TZNAME:MST
DTSTART:20271107T080000
END:STANDARD
END:VTIMEZONE
BEGIN:VEVENT
DTSTART;VALUE=DATE:20260101
DTEND;VALUE=DATE:20260102
DTSTAMP:20260425T102502
CREATED:20250307T202817Z
LAST-MODIFIED:20250307T202817Z
UID:28892-1767225600-1767311999@www.nmact.org
SUMMARY:Powerlifting Rules Clinic (1-15)
DESCRIPTION:
URL:https://www.nmact.org/event/powerlifting-rules-clinic-1-15-3/
END:VEVENT
BEGIN:VEVENT
DTSTART;VALUE=DATE:20260105
DTEND;VALUE=DATE:20260106
DTSTAMP:20260425T102502
CREATED:20250307T202818Z
LAST-MODIFIED:20250307T202818Z
UID:28893-1767571200-1767657599@www.nmact.org
SUMMARY:Winter Officials Appreciation Week (5-9)
DESCRIPTION:
URL:https://www.nmact.org/event/winter-officials-appreciation-week-5-9/
END:VEVENT
BEGIN:VEVENT
DTSTART;VALUE=DATE:20260105
DTEND;VALUE=DATE:20260106
DTSTAMP:20260425T102502
CREATED:20250307T202818Z
LAST-MODIFIED:20250307T202818Z
UID:28894-1767571200-1767657599@www.nmact.org
SUMMARY:Powerlifting Start Date
DESCRIPTION:
URL:https://www.nmact.org/event/powerlifting-start-date-3/
END:VEVENT
BEGIN:VEVENT
DTSTART;VALUE=DATE:20260107
DTEND;VALUE=DATE:20260108
DTSTAMP:20260425T102502
CREATED:20250307T202819Z
LAST-MODIFIED:20250307T202819Z
UID:28895-1767744000-1767830399@www.nmact.org
SUMMARY:NMMEA All-State Music Conference (7-10)
DESCRIPTION:
URL:https://www.nmact.org/event/nmmea-all-state-music-conference-7-10/
END:VEVENT
BEGIN:VEVENT
DTSTART;VALUE=DATE:20260112
DTEND;VALUE=DATE:20260113
DTSTAMP:20260425T102502
CREATED:20250307T202820Z
LAST-MODIFIED:20250307T202820Z
UID:28896-1768176000-1768262399@www.nmact.org
SUMMARY:Esports Start Date
DESCRIPTION:
URL:https://www.nmact.org/event/esports-start-date-6/
END:VEVENT
BEGIN:VEVENT
DTSTART;VALUE=DATE:20260113
DTEND;VALUE=DATE:20260114
DTSTAMP:20260425T102502
CREATED:20250307T202822Z
LAST-MODIFIED:20250307T202822Z
UID:28897-1768262400-1768348799@www.nmact.org
SUMMARY:Hardship Review
DESCRIPTION:
URL:https://www.nmact.org/event/hardship-review-71/
END:VEVENT
BEGIN:VEVENT
DTSTART;VALUE=DATE:20260115
DTEND;VALUE=DATE:20260116
DTSTAMP:20260425T102502
CREATED:20250806T153702Z
LAST-MODIFIED:20250806T153702Z
UID:29900-1768435200-1768521599@www.nmact.org
SUMMARY:Drama / One-Act Production (15-17)
DESCRIPTION:
URL:https://www.nmact.org/event/drama-one-act-production-15-17/
END:VEVENT
BEGIN:VEVENT
DTSTART;VALUE=DATE:20260119
DTEND;VALUE=DATE:20260120
DTSTAMP:20260425T102502
CREATED:20250307T202823Z
LAST-MODIFIED:20250307T202823Z
UID:28898-1768780800-1768867199@www.nmact.org
SUMMARY:NMAA Office Closed
DESCRIPTION:
URL:https://www.nmact.org/event/nmaa-office-closed-51/
END:VEVENT
BEGIN:VEVENT
DTSTART;VALUE=DATE:20260121
DTEND;VALUE=DATE:20260122
DTSTAMP:20260425T102502
CREATED:20250307T202823Z
LAST-MODIFIED:20250307T202823Z
UID:28899-1768953600-1769039999@www.nmact.org
SUMMARY:Monthly Athletic Directors Meeting (Zoom)
DESCRIPTION:
URL:https://www.nmact.org/event/monthly-athletic-directors-meeting-zoom-16/
END:VEVENT
BEGIN:VEVENT
DTSTART;VALUE=DATE:20260122
DTEND;VALUE=DATE:20260123
DTSTAMP:20260425T102502
CREATED:20250307T202824Z
LAST-MODIFIED:20250307T202824Z
UID:28900-1769040000-1769126399@www.nmact.org
SUMMARY:Esports Rules Clinic
DESCRIPTION:
URL:https://www.nmact.org/event/esports-rules-clinic/
END:VEVENT
BEGIN:VEVENT
DTSTART;VALUE=DATE:20260123
DTEND;VALUE=DATE:20260124
DTSTAMP:20260425T102502
CREATED:20250307T202839Z
LAST-MODIFIED:20251209T165053Z
UID:28903-1769126400-1769212799@www.nmact.org
SUMMARY:NMHSCA Spring Sports Clinic (23-24)
DESCRIPTION:
URL:https://www.nmact.org/event/nmhsca-spring-sports-clinic-30-31/
END:VEVENT
END:VCALENDAR