BEGIN:VCALENDAR
VERSION:2.0
PRODID:-//NMAA - ECPv6.15.20//NONSGML v1.0//EN
CALSCALE:GREGORIAN
METHOD:PUBLISH
X-WR-CALNAME:NMAA
X-ORIGINAL-URL:https://www.nmact.org
X-WR-CALDESC:Events for NMAA
REFRESH-INTERVAL;VALUE=DURATION:PT1H
X-Robots-Tag:noindex
X-PUBLISHED-TTL:PT1H
BEGIN:VTIMEZONE
TZID:America/Denver
BEGIN:DAYLIGHT
TZOFFSETFROM:-0700
TZOFFSETTO:-0600
TZNAME:MDT
DTSTART:20240310T090000
END:DAYLIGHT
BEGIN:STANDARD
TZOFFSETFROM:-0600
TZOFFSETTO:-0700
TZNAME:MST
DTSTART:20241103T080000
END:STANDARD
BEGIN:DAYLIGHT
TZOFFSETFROM:-0700
TZOFFSETTO:-0600
TZNAME:MDT
DTSTART:20250309T090000
END:DAYLIGHT
BEGIN:STANDARD
TZOFFSETFROM:-0600
TZOFFSETTO:-0700
TZNAME:MST
DTSTART:20251102T080000
END:STANDARD
BEGIN:DAYLIGHT
TZOFFSETFROM:-0700
TZOFFSETTO:-0600
TZNAME:MDT
DTSTART:20260308T090000
END:DAYLIGHT
BEGIN:STANDARD
TZOFFSETFROM:-0600
TZOFFSETTO:-0700
TZNAME:MST
DTSTART:20261101T080000
END:STANDARD
END:VTIMEZONE
BEGIN:VEVENT
DTSTART;VALUE=DATE:20251101
DTEND;VALUE=DATE:20251102
DTSTAMP:20260425T132507
CREATED:20250307T184909Z
LAST-MODIFIED:20250307T184909Z
UID:28856-1761955200-1762041599@www.nmact.org
SUMMARY:State Soccer Quarterfinals – Boys
DESCRIPTION:
URL:https://www.nmact.org/event/state-soccer-quarterfinals-boys-2/
END:VEVENT
BEGIN:VEVENT
DTSTART;VALUE=DATE:20251101
DTEND;VALUE=DATE:20251102
DTSTAMP:20260425T132507
CREATED:20250307T184910Z
LAST-MODIFIED:20250307T184910Z
UID:28857-1761955200-1762041599@www.nmact.org
SUMMARY:Winer Sports Rules Clinics (1-15)
DESCRIPTION:
URL:https://www.nmact.org/event/winer-sports-rules-clinics-1-15-2/
END:VEVENT
BEGIN:VEVENT
DTSTART;VALUE=DATE:20251101
DTEND;VALUE=DATE:20251102
DTSTAMP:20260425T132507
CREATED:20250307T184923Z
LAST-MODIFIED:20251025T002938Z
UID:28861-1761955200-1762041599@www.nmact.org
SUMMARY:2A-6A Football Brackets Released
DESCRIPTION:
URL:https://www.nmact.org/event/2a-6a-football-brackets-released-5/
END:VEVENT
BEGIN:VEVENT
DTSTART;VALUE=DATE:20251102
DTEND;VALUE=DATE:20251103
DTSTAMP:20260425T132507
CREATED:20250307T184912Z
LAST-MODIFIED:20250307T184912Z
UID:28860-1762041600-1762127999@www.nmact.org
SUMMARY:Cross Country Entries Due
DESCRIPTION:
URL:https://www.nmact.org/event/cross-country-entries-due-9/
END:VEVENT
BEGIN:VEVENT
DTSTART;VALUE=DATE:20251103
DTEND;VALUE=DATE:20251104
DTSTAMP:20260425T132507
CREATED:20250307T184924Z
LAST-MODIFIED:20250307T184924Z
UID:28862-1762128000-1762214399@www.nmact.org
SUMMARY:Mid School/Jr. High Basketball Practice Begins
DESCRIPTION:
URL:https://www.nmact.org/event/mid-school-jr-high-basketball-practice-begins-2/
END:VEVENT
BEGIN:VEVENT
DTSTART;VALUE=DATE:20251103
DTEND;VALUE=DATE:20251104
DTSTAMP:20260425T132507
CREATED:20250307T184925Z
LAST-MODIFIED:20250307T184925Z
UID:28863-1762128000-1762214399@www.nmact.org
SUMMARY:Wrestling Practice Start Date
DESCRIPTION:
URL:https://www.nmact.org/event/wrestling-practice-start-date-2/
END:VEVENT
BEGIN:VEVENT
DTSTART;VALUE=DATE:20251103
DTEND;VALUE=DATE:20251104
DTSTAMP:20260425T132507
CREATED:20250307T184925Z
LAST-MODIFIED:20250307T184925Z
UID:28864-1762128000-1762214399@www.nmact.org
SUMMARY:Swimming & Diving and Spirit Competitions Begin
DESCRIPTION:
URL:https://www.nmact.org/event/swimming-diving-and-spirit-competitions-begin-2/
END:VEVENT
BEGIN:VEVENT
DTSTART;VALUE=DATE:20251104
DTEND;VALUE=DATE:20251105
DTSTAMP:20260425T132507
CREATED:20250307T184926Z
LAST-MODIFIED:20251006T133301Z
UID:28865-1762214400-1762300799@www.nmact.org
SUMMARY:State Soccer Semifinals - Girls
DESCRIPTION:
URL:https://www.nmact.org/event/state-soccer-semifinals-4-5/
END:VEVENT
BEGIN:VEVENT
DTSTART;VALUE=DATE:20251105
DTEND;VALUE=DATE:20251106
DTSTAMP:20260425T132507
CREATED:20251006T133337Z
LAST-MODIFIED:20251006T133337Z
UID:30320-1762300800-1762387199@www.nmact.org
SUMMARY:State Soccer Semifinals - Boys
DESCRIPTION:
URL:https://www.nmact.org/event/state-soccer-semifinals-boys/
END:VEVENT
BEGIN:VEVENT
DTSTART;VALUE=DATE:20251107
DTEND;VALUE=DATE:20251108
DTSTAMP:20260425T132507
CREATED:20250307T184938Z
LAST-MODIFIED:20250307T184938Z
UID:28866-1762473600-1762559999@www.nmact.org
SUMMARY:2A-6A Football 1st Round (7-8)
DESCRIPTION:
URL:https://www.nmact.org/event/2a-6a-football-1st-round-7-8/
END:VEVENT
BEGIN:VEVENT
DTSTART;VALUE=DATE:20251107
DTEND;VALUE=DATE:20251108
DTSTAMP:20260425T132507
CREATED:20250307T184939Z
LAST-MODIFIED:20250307T184939Z
UID:28867-1762473600-1762559999@www.nmact.org
SUMMARY:8-Man Football Quarterfinals (7-8)
DESCRIPTION:
URL:https://www.nmact.org/event/8-man-football-quarterfinals-7-8/
END:VEVENT
BEGIN:VEVENT
DTSTART;VALUE=DATE:20251107
DTEND;VALUE=DATE:20251108
DTSTAMP:20260425T132507
CREATED:20250307T184940Z
LAST-MODIFIED:20250307T184940Z
UID:28868-1762473600-1762559999@www.nmact.org
SUMMARY:6-Man Football Semifinals (7-8)
DESCRIPTION:
URL:https://www.nmact.org/event/6-man-football-semifinals-7-8/
END:VEVENT
BEGIN:VEVENT
DTSTART;VALUE=DATE:20251107
DTEND;VALUE=DATE:20251109
DTSTAMP:20260425T132507
CREATED:20250930T174005Z
LAST-MODIFIED:20250930T174005Z
UID:30278-1762473600-1762646399@www.nmact.org
SUMMARY:State Soccer Championships (7-8)
DESCRIPTION:
URL:https://www.nmact.org/event/state-soccer-championships-7-8/
END:VEVENT
BEGIN:VEVENT
DTSTART;VALUE=DATE:20251108
DTEND;VALUE=DATE:20251109
DTSTAMP:20260425T132507
CREATED:20250307T184941Z
LAST-MODIFIED:20250930T174222Z
UID:28869-1762560000-1762646399@www.nmact.org
SUMMARY:State Cross Country Championships
DESCRIPTION:
URL:https://www.nmact.org/event/state-cross-country-championships-7-8/
END:VEVENT
BEGIN:VEVENT
DTSTART;VALUE=DATE:20251109
DTEND;VALUE=DATE:20251110
DTSTAMP:20260425T132507
CREATED:20250307T184941Z
LAST-MODIFIED:20250307T184941Z
UID:28870-1762646400-1762732799@www.nmact.org
SUMMARY:Volleyball Brackets Released
DESCRIPTION:
URL:https://www.nmact.org/event/volleyball-brackets-released-11/
END:VEVENT
BEGIN:VEVENT
DTSTART;VALUE=DATE:20251111
DTEND;VALUE=DATE:20251112
DTSTAMP:20260425T132507
CREATED:20250307T184953Z
LAST-MODIFIED:20250307T184953Z
UID:28871-1762819200-1762905599@www.nmact.org
SUMMARY:Hardship Review
DESCRIPTION:
URL:https://www.nmact.org/event/hardship-review-69/
END:VEVENT
BEGIN:VEVENT
DTSTART;VALUE=DATE:20251112
DTEND;VALUE=DATE:20251113
DTSTAMP:20260425T132507
CREATED:20250307T185012Z
LAST-MODIFIED:20251104T175919Z
UID:28878-1762905600-1762991999@www.nmact.org
SUMMARY:Monthly Athletic Directors Meeting (Zoom)
DESCRIPTION:
URL:https://www.nmact.org/event/monthly-athletic-directors-meeting-zoom-14/
END:VEVENT
BEGIN:VEVENT
DTSTART;VALUE=DATE:20251113
DTEND;VALUE=DATE:20251116
DTSTAMP:20260425T132507
CREATED:20250307T184955Z
LAST-MODIFIED:20250930T174244Z
UID:28872-1762992000-1763251199@www.nmact.org
SUMMARY:State Volleyball Championships (13-15)
DESCRIPTION:
URL:https://www.nmact.org/event/state-volleyball-championships-13-15/
END:VEVENT
BEGIN:VEVENT
DTSTART;VALUE=DATE:20251114
DTEND;VALUE=DATE:20251115
DTSTAMP:20260425T132507
CREATED:20250307T184956Z
LAST-MODIFIED:20250307T184956Z
UID:28873-1763078400-1763164799@www.nmact.org
SUMMARY:2A-6A Football Quarterfinals (14-15)
DESCRIPTION:
URL:https://www.nmact.org/event/2a-6a-football-quarterfinals-14-15/
END:VEVENT
BEGIN:VEVENT
DTSTART;VALUE=DATE:20251114
DTEND;VALUE=DATE:20251115
DTSTAMP:20260425T132507
CREATED:20250307T184956Z
LAST-MODIFIED:20250307T184956Z
UID:28874-1763078400-1763164799@www.nmact.org
SUMMARY:8-Man Football Semifinals (14-15)
DESCRIPTION:
URL:https://www.nmact.org/event/8-man-football-semifinals-14-15/
END:VEVENT
BEGIN:VEVENT
DTSTART;VALUE=DATE:20251115
DTEND;VALUE=DATE:20251116
DTSTAMP:20260425T132507
CREATED:20250307T184957Z
LAST-MODIFIED:20250307T184957Z
UID:28875-1763164800-1763251199@www.nmact.org
SUMMARY:6-Man Football Championships
DESCRIPTION:
URL:https://www.nmact.org/event/6-man-football-championships-4/
END:VEVENT
BEGIN:VEVENT
DTSTART;VALUE=DATE:20251115
DTEND;VALUE=DATE:20251116
DTSTAMP:20260425T132507
CREATED:20250307T185009Z
LAST-MODIFIED:20250307T185009Z
UID:28876-1763164800-1763251199@www.nmact.org
SUMMARY:Golf Fall Season Ends
DESCRIPTION:
URL:https://www.nmact.org/event/golf-fall-season-ends-5/
END:VEVENT
BEGIN:VEVENT
DTSTART;VALUE=DATE:20251117
DTEND;VALUE=DATE:20251118
DTSTAMP:20260425T132507
CREATED:20250307T185011Z
LAST-MODIFIED:20250307T185011Z
UID:28877-1763337600-1763423999@www.nmact.org
SUMMARY:Basketball Practice Begins
DESCRIPTION:
URL:https://www.nmact.org/event/basketball-practice-begins-5/
END:VEVENT
BEGIN:VEVENT
DTSTART;VALUE=DATE:20251120
DTEND;VALUE=DATE:20251121
DTSTAMP:20260425T132507
CREATED:20250307T185012Z
LAST-MODIFIED:20251029T171046Z
UID:28879-1763596800-1763683199@www.nmact.org
SUMMARY:Commission
DESCRIPTION:
URL:https://www.nmact.org/event/commission-6/
END:VEVENT
BEGIN:VEVENT
DTSTART;VALUE=DATE:20251121
DTEND;VALUE=DATE:20251122
DTSTAMP:20260425T132507
CREATED:20250307T185013Z
LAST-MODIFIED:20250307T185013Z
UID:28880-1763683200-1763769599@www.nmact.org
SUMMARY:2A-6A Football Semifinals (21-22)
DESCRIPTION:
URL:https://www.nmact.org/event/2a-6a-football-semifinals-21-22/
END:VEVENT
BEGIN:VEVENT
DTSTART;VALUE=DATE:20251122
DTEND;VALUE=DATE:20251123
DTSTAMP:20260425T132507
CREATED:20250307T185024Z
LAST-MODIFIED:20250307T185024Z
UID:28881-1763769600-1763855999@www.nmact.org
SUMMARY:8-Man Football Championships
DESCRIPTION:
URL:https://www.nmact.org/event/8-man-football-championships-4/
END:VEVENT
BEGIN:VEVENT
DTSTART;VALUE=DATE:20251126
DTEND;VALUE=DATE:20251129
DTSTAMP:20260425T132507
CREATED:20250930T173859Z
LAST-MODIFIED:20250930T173859Z
UID:30273-1764115200-1764374399@www.nmact.org
SUMMARY:NMAA Office Closed
DESCRIPTION:
URL:https://www.nmact.org/event/nmaa-office-closed-53/
END:VEVENT
BEGIN:VEVENT
DTSTART;VALUE=DATE:20251129
DTEND;VALUE=DATE:20251130
DTSTAMP:20260425T132507
CREATED:20250307T185024Z
LAST-MODIFIED:20250307T185024Z
UID:28882-1764374400-1764460799@www.nmact.org
SUMMARY:2A-6A Football Championships
DESCRIPTION:
URL:https://www.nmact.org/event/2a-6a-football-championships-3/
END:VEVENT
END:VCALENDAR