BEGIN:VCALENDAR
VERSION:2.0
PRODID:-//NMAA - ECPv6.15.20//NONSGML v1.0//EN
CALSCALE:GREGORIAN
METHOD:PUBLISH
X-ORIGINAL-URL:https://www.nmact.org
X-WR-CALDESC:Events for NMAA
REFRESH-INTERVAL;VALUE=DURATION:PT1H
X-Robots-Tag:noindex
X-PUBLISHED-TTL:PT1H
BEGIN:VTIMEZONE
TZID:America/Denver
BEGIN:DAYLIGHT
TZOFFSETFROM:-0700
TZOFFSETTO:-0600
TZNAME:MDT
DTSTART:20240310T090000
END:DAYLIGHT
BEGIN:STANDARD
TZOFFSETFROM:-0600
TZOFFSETTO:-0700
TZNAME:MST
DTSTART:20241103T080000
END:STANDARD
BEGIN:DAYLIGHT
TZOFFSETFROM:-0700
TZOFFSETTO:-0600
TZNAME:MDT
DTSTART:20250309T090000
END:DAYLIGHT
BEGIN:STANDARD
TZOFFSETFROM:-0600
TZOFFSETTO:-0700
TZNAME:MST
DTSTART:20251102T080000
END:STANDARD
BEGIN:DAYLIGHT
TZOFFSETFROM:-0700
TZOFFSETTO:-0600
TZNAME:MDT
DTSTART:20260308T090000
END:DAYLIGHT
BEGIN:STANDARD
TZOFFSETFROM:-0600
TZOFFSETTO:-0700
TZNAME:MST
DTSTART:20261101T080000
END:STANDARD
END:VTIMEZONE
BEGIN:VEVENT
DTSTART;VALUE=DATE:20250901
DTEND;VALUE=DATE:20250902
DTSTAMP:20260425T160715
CREATED:20250307T184218Z
LAST-MODIFIED:20250307T184218Z
UID:28834-1756684800-1756771199@www.nmact.org
SUMMARY:Winter Officials Registration Due
DESCRIPTION:
URL:https://www.nmact.org/event/winter-officials-registration-due-2/
END:VEVENT
BEGIN:VEVENT
DTSTART;VALUE=DATE:20250901
DTEND;VALUE=DATE:20250902
DTSTAMP:20260425T160715
CREATED:20250307T184219Z
LAST-MODIFIED:20250307T184219Z
UID:28835-1756684800-1756771199@www.nmact.org
SUMMARY:Golf Competitions Begin
DESCRIPTION:
URL:https://www.nmact.org/event/golf-competitions-begin-2/
END:VEVENT
BEGIN:VEVENT
DTSTART;VALUE=DATE:20250901
DTEND;VALUE=DATE:20250902
DTSTAMP:20260425T160715
CREATED:20250307T184307Z
LAST-MODIFIED:20250307T184307Z
UID:28842-1756684800-1756771199@www.nmact.org
SUMMARY:NMAA Office Closed
DESCRIPTION:
URL:https://www.nmact.org/event/nmaa-office-closed-49/
END:VEVENT
BEGIN:VEVENT
DTSTART;VALUE=DATE:20250903
DTEND;VALUE=DATE:20250904
DTSTAMP:20260425T160715
CREATED:20250307T184227Z
LAST-MODIFIED:20250826T134534Z
UID:28836-1756857600-1756943999@www.nmact.org
SUMMARY:Commission
DESCRIPTION:
URL:https://www.nmact.org/event/commission-5/
END:VEVENT
BEGIN:VEVENT
DTSTART;VALUE=DATE:20250909
DTEND;VALUE=DATE:20250910
DTSTAMP:20260425T160715
CREATED:20250307T184229Z
LAST-MODIFIED:20250307T184229Z
UID:28837-1757376000-1757462399@www.nmact.org
SUMMARY:NFHS Section VI (9-12)
DESCRIPTION:
URL:https://www.nmact.org/event/nfhs-section-vi-9-12/
END:VEVENT
BEGIN:VEVENT
DTSTART;VALUE=DATE:20250915
DTEND;VALUE=DATE:20250916
DTSTAMP:20260425T160715
CREATED:20250307T184235Z
LAST-MODIFIED:20250307T184235Z
UID:28838-1757894400-1757980799@www.nmact.org
SUMMARY:Membership Fee Due
DESCRIPTION:
URL:https://www.nmact.org/event/membership-fee-due-2/
END:VEVENT
BEGIN:VEVENT
DTSTART;VALUE=DATE:20250916
DTEND;VALUE=DATE:20250917
DTSTAMP:20260425T160715
CREATED:20250307T184236Z
LAST-MODIFIED:20250307T184236Z
UID:28839-1757980800-1758067199@www.nmact.org
SUMMARY:Hardship Review
DESCRIPTION:
URL:https://www.nmact.org/event/hardship-review-67/
END:VEVENT
BEGIN:VEVENT
DTSTART;VALUE=DATE:20250917
DTEND;VALUE=DATE:20250918
DTSTAMP:20260425T160715
CREATED:20250307T184238Z
LAST-MODIFIED:20250307T184238Z
UID:28840-1758067200-1758153599@www.nmact.org
SUMMARY:Board of Directors
DESCRIPTION:
URL:https://www.nmact.org/event/board-of-directors-6/
END:VEVENT
BEGIN:VEVENT
DTSTART;VALUE=DATE:20250924
DTEND;VALUE=DATE:20250925
DTSTAMP:20260425T160715
CREATED:20250307T184306Z
LAST-MODIFIED:20250307T184306Z
UID:28841-1758672000-1758758399@www.nmact.org
SUMMARY:Monthly Athletic Directors Meeting (Zoom)
DESCRIPTION:
URL:https://www.nmact.org/event/monthly-athletic-directors-meeting-zoom-12/
END:VEVENT
END:VCALENDAR